BEGIN:VCALENDAR
VERSION:2.0
PRODID:-//jEvents 2.0 for Joomla//EN
CALSCALE:GREGORIAN
METHOD:PUBLISH
BEGIN:VTIMEZONE
TZID:Europe/Berlin
BEGIN:STANDARD
DTSTART:20251026T020000
RDATE:20260329T030000
TZOFFSETFROM:+0200
TZOFFSETTO:+0100
TZNAME:Europe/Berlin CET
END:STANDARD
BEGIN:STANDARD
DTSTART:20261025T020000
RDATE:20270328T030000
TZOFFSETFROM:+0200
TZOFFSETTO:+0100
TZNAME:Europe/Berlin CET
END:STANDARD
BEGIN:DAYLIGHT
DTSTART:20250424T190000
RDATE:20251026T020000
TZOFFSETFROM:+0100
TZOFFSETTO:+0200
TZNAME:Europe/Berlin CEST
END:DAYLIGHT
BEGIN:DAYLIGHT
DTSTART:20260329T030000
RDATE:20261025T020000
TZOFFSETFROM:+0100
TZOFFSETTO:+0200
TZNAME:Europe/Berlin CEST
END:DAYLIGHT
END:VTIMEZONE
BEGIN:VEVENT
UID:558e4c6649dde8b10afb9cc26854184c
CATEGORIES:Julia Fischer
CREATED:20260419T120902
SUMMARY:JFQ Tour
LOCATION:Tallinn\, Estonia kontserdisaal
DESCRIPTION:Johannes Brahms: Streichquartett Nr. 2, op. 51 a-moll\nFranz Schubert: Stre
 ichquartett c-Moll D 703\nDmitri Schostakowitsch: Streichquartett Nr. 3 F-D
 ur op. 73
X-ALT-DESC;FMTTYPE=text/html:Johannes Brahms: Streichquartett Nr. 2, op. 51 a-moll<br/>Franz Schubert: S
 treichquartett c-Moll D 703<br/>Dmitri Schostakowitsch: Streichquartett Nr.
  3 F-Dur op. 73
CONTACT:www.concert.ee/en/
X-EXTRAINFO:Tallinn
DTSTAMP:20260419T152136Z
DTSTART;TZID=Europe/Berlin:20260425T190000
SEQUENCE:0
TRANSP:OPAQUE
END:VEVENT
END:VCALENDAR