BEGIN:VCALENDAR
VERSION:2.0
PRODID:-//jEvents 2.0 for Joomla//EN
CALSCALE:GREGORIAN
METHOD:PUBLISH
BEGIN:VTIMEZONE
TZID:Europe/Berlin
BEGIN:STANDARD
DTSTART:20251026T020000
RDATE:20260329T030000
TZOFFSETFROM:+0200
TZOFFSETTO:+0100
TZNAME:Europe/Berlin CET
END:STANDARD
BEGIN:STANDARD
DTSTART:20261025T020000
RDATE:20270328T030000
TZOFFSETFROM:+0200
TZOFFSETTO:+0100
TZNAME:Europe/Berlin CET
END:STANDARD
BEGIN:DAYLIGHT
DTSTART:20250417T193000
RDATE:20251026T020000
TZOFFSETFROM:+0100
TZOFFSETTO:+0200
TZNAME:Europe/Berlin CEST
END:DAYLIGHT
BEGIN:DAYLIGHT
DTSTART:20260329T030000
RDATE:20261025T020000
TZOFFSETFROM:+0100
TZOFFSETTO:+0200
TZNAME:Europe/Berlin CEST
END:DAYLIGHT
END:VTIMEZONE
BEGIN:VEVENT
UID:ad637241d70ce567c1c81c398c0523d6
CATEGORIES:Konstantin Krimmel
CREATED:20260419T122002
SUMMARY:BERLIN u.a.  Strauss-Lieder unter Christian Thielemann
LOCATION:Musikverein Wien
DESCRIPTION:Richard Strauss: Ausgewählte Lieder (Fassung für Orchester)
CONTACT:www.staatskapelle-berlin.de/de/
DTSTAMP:20260419T154212Z
DTSTART;TZID=Europe/Berlin:20260418T193000
SEQUENCE:0
TRANSP:OPAQUE
END:VEVENT
END:VCALENDAR