BEGIN:VCALENDAR
VERSION:2.0
PRODID:-//jEvents 2.0 for Joomla//EN
CALSCALE:GREGORIAN
METHOD:PUBLISH
BEGIN:VTIMEZONE
TZID:Europe/Berlin
BEGIN:STANDARD
DTSTART:20251026T020000
RDATE:20260329T030000
TZOFFSETFROM:+0200
TZOFFSETTO:+0100
TZNAME:Europe/Berlin CET
END:STANDARD
BEGIN:STANDARD
DTSTART:20261025T020000
RDATE:20270328T030000
TZOFFSETFROM:+0200
TZOFFSETTO:+0100
TZNAME:Europe/Berlin CET
END:STANDARD
BEGIN:DAYLIGHT
DTSTART:20250425T170000
RDATE:20251026T020000
TZOFFSETFROM:+0100
TZOFFSETTO:+0200
TZNAME:Europe/Berlin CEST
END:DAYLIGHT
BEGIN:DAYLIGHT
DTSTART:20260329T030000
RDATE:20261025T020000
TZOFFSETFROM:+0100
TZOFFSETTO:+0200
TZNAME:Europe/Berlin CEST
END:DAYLIGHT
END:VTIMEZONE
BEGIN:VEVENT
UID:502c7f950433dc331bcfd2b2dbf27d36
CATEGORIES:Felix Mildenberger
CREATED:20260419T122502
SUMMARY:Schweizer Jugend-Sinfonie-Orchester Frühlingstournee
LOCATION:Bern\, Casino Bern
DESCRIPTION:Lili Boulanger: "D’un soir triste" für Orchester\nLili Boulanger: "D’un mat
 in de printemps" für Orchester\nCamille Saint-Saëns: Konzert für Violoncell
 o und Orchester Nr. 1 a-moll op. 33\nAchille-Claude Debussy: La Mer L 109 f
 ür Orchester
X-ALT-DESC;FMTTYPE=text/html:Lili Boulanger: "D’un soir triste" für Orchester<br/>Lili Boulanger: "D’un 
 matin de printemps" für Orchester<br/>Camille Saint-Saëns: Konzert für Viol
 oncello und Orchester Nr. 1 a-moll op. 33<br/>Achille-Claude Debussy: La Me
 r L 109 für Orchester
X-EXTRAINFO:Bern
DTSTAMP:20260419T153859Z
DTSTART;TZID=Europe/Berlin:20260426T170000
SEQUENCE:0
TRANSP:OPAQUE
END:VEVENT
END:VCALENDAR