BEGIN:VCALENDAR
VERSION:2.0
PRODID:-//jEvents 2.0 for Joomla//EN
CALSCALE:GREGORIAN
METHOD:PUBLISH
BEGIN:VTIMEZONE
TZID:Europe/Berlin
BEGIN:STANDARD
DTSTART:20251026T020000
RDATE:20260329T030000
TZOFFSETFROM:+0200
TZOFFSETTO:+0100
TZNAME:Europe/Berlin CET
END:STANDARD
BEGIN:STANDARD
DTSTART:20261025T020000
RDATE:20270328T030000
TZOFFSETFROM:+0200
TZOFFSETTO:+0100
TZNAME:Europe/Berlin CET
END:STANDARD
BEGIN:DAYLIGHT
DTSTART:20250424T200000
RDATE:20251026T020000
TZOFFSETFROM:+0100
TZOFFSETTO:+0200
TZNAME:Europe/Berlin CEST
END:DAYLIGHT
BEGIN:DAYLIGHT
DTSTART:20260329T030000
RDATE:20261025T020000
TZOFFSETFROM:+0100
TZOFFSETTO:+0200
TZNAME:Europe/Berlin CEST
END:DAYLIGHT
END:VTIMEZONE
BEGIN:VEVENT
UID:c70242197abaf58a8f34239b65d264a5
CATEGORIES:Frank Peter Zimmermann
CREATED:20260419T125301
SUMMARY:BAMBERG Bamberger Symphoniker / Jura Valčuha
LOCATION:Bamberg\, Konzerthalle Bamberg
DESCRIPTION:Ludwig van Beethoven: Konzert für Violine und Orchester D-Dur op. 61
CONTACT:www.bamberger-symphoniker.de/programm-tickets/konzertuebersicht/juraj-valcuha-frank-peter-zimmermann-25-04-2026.html
X-EXTRAINFO:Bamberg
DTSTAMP:20260419T153937Z
DTSTART;TZID=Europe/Berlin:20260425T200000
SEQUENCE:0
TRANSP:OPAQUE
END:VEVENT
END:VCALENDAR