BEGIN:VCALENDAR
VERSION:2.0
PRODID:-//jEvents 2.0 for Joomla//EN
CALSCALE:GREGORIAN
METHOD:PUBLISH
BEGIN:VTIMEZONE
TZID:Europe/Berlin
BEGIN:STANDARD
DTSTART:20251026T020000
RDATE:20260329T030000
TZOFFSETFROM:+0200
TZOFFSETTO:+0100
TZNAME:Europe/Berlin CET
END:STANDARD
BEGIN:STANDARD
DTSTART:20261025T020000
RDATE:20270328T030000
TZOFFSETFROM:+0200
TZOFFSETTO:+0100
TZNAME:Europe/Berlin CET
END:STANDARD
BEGIN:DAYLIGHT
DTSTART:20250421T200000
RDATE:20251026T020000
TZOFFSETFROM:+0100
TZOFFSETTO:+0200
TZNAME:Europe/Berlin CEST
END:DAYLIGHT
BEGIN:DAYLIGHT
DTSTART:20260329T030000
RDATE:20261025T020000
TZOFFSETFROM:+0100
TZOFFSETTO:+0200
TZNAME:Europe/Berlin CEST
END:DAYLIGHT
END:VTIMEZONE
BEGIN:VEVENT
UID:e6fcf40e44827e644fb2b3e7a43c0280
CATEGORIES:Jonas Müller
CREATED:20260419T125602
SUMMARY:KÖLN/LA "Zwischen Welten"
LOCATION:Köln\, Kölner Philharmonie
DESCRIPTION:-: Liederabend
CONTACT:www.koelner-philharmonie.de
X-EXTRAINFO:Köln
DTSTAMP:20260419T153900Z
DTSTART;TZID=Europe/Berlin:20260422T200000
SEQUENCE:0
TRANSP:OPAQUE
END:VEVENT
END:VCALENDAR