BEGIN:VCALENDAR
VERSION:2.0
PRODID:-//jEvents 2.0 for Joomla//EN
CALSCALE:GREGORIAN
METHOD:PUBLISH
BEGIN:VTIMEZONE
TZID:Europe/Berlin
BEGIN:STANDARD
DTSTART:20251026T020000
RDATE:20260329T030000
TZOFFSETFROM:+0200
TZOFFSETTO:+0100
TZNAME:Europe/Berlin CET
END:STANDARD
BEGIN:STANDARD
DTSTART:20261025T020000
RDATE:20270328T030000
TZOFFSETFROM:+0200
TZOFFSETTO:+0100
TZNAME:Europe/Berlin CET
END:STANDARD
BEGIN:DAYLIGHT
DTSTART:20250417T200000
RDATE:20251026T020000
TZOFFSETFROM:+0100
TZOFFSETTO:+0200
TZNAME:Europe/Berlin CEST
END:DAYLIGHT
BEGIN:DAYLIGHT
DTSTART:20260329T030000
RDATE:20261025T020000
TZOFFSETFROM:+0100
TZOFFSETTO:+0200
TZNAME:Europe/Berlin CEST
END:DAYLIGHT
END:VTIMEZONE
BEGIN:VEVENT
UID:d16f8523c6c6e3f3d90ac5c9d90cfd18
CATEGORIES:Irene Roberts
CREATED:20260419T160101
SUMMARY:Berlin (RSB) - WALKÜRE
LOCATION:Berlin\, Konzerthaus Berlin - Großer Saal
DESCRIPTION:Richard Wagner: Die Walküre
CONTACT:www.rsb-online.de
X-EXTRAINFO:Berlin
DTSTAMP:20260419T194620Z
DTSTART;TZID=Europe/Berlin:20260418T200000
SEQUENCE:0
TRANSP:OPAQUE
END:VEVENT
END:VCALENDAR