BEGIN:VCALENDAR
VERSION:2.0
PRODID:-//jEvents 2.0 for Joomla//EN
CALSCALE:GREGORIAN
METHOD:PUBLISH
BEGIN:VTIMEZONE
TZID:Europe/Berlin
BEGIN:STANDARD
DTSTART:20251026T020000
RDATE:20260329T030000
TZOFFSETFROM:+0200
TZOFFSETTO:+0100
TZNAME:Europe/Berlin CET
END:STANDARD
BEGIN:STANDARD
DTSTART:20261025T020000
RDATE:20270328T030000
TZOFFSETFROM:+0200
TZOFFSETTO:+0100
TZNAME:Europe/Berlin CET
END:STANDARD
BEGIN:DAYLIGHT
DTSTART:20250425T190000
RDATE:20251026T020000
TZOFFSETFROM:+0100
TZOFFSETTO:+0200
TZNAME:Europe/Berlin CEST
END:DAYLIGHT
BEGIN:DAYLIGHT
DTSTART:20260329T030000
RDATE:20261025T020000
TZOFFSETFROM:+0100
TZOFFSETTO:+0200
TZNAME:Europe/Berlin CEST
END:DAYLIGHT
END:VTIMEZONE
BEGIN:VEVENT
UID:96f8a7fd598f8824a6f25ed88eddcf0c
CATEGORIES:Claudio Bohórquez
CREATED:20260419T160301
SUMMARY:SANDVIKA Trio
LOCATION:Sandvika\, Baerum Kulturhus
DESCRIPTION:Tōru Takemitsu: Between Tides\nMaurice Ravel: Klaviertrio a-moll Trio für K
 lavier, Violine und Violoncello\nJohannes Brahms: Klaviertrio No. 1 in H Du
 r, op. 8
X-ALT-DESC;FMTTYPE=text/html:Tōru Takemitsu: Between Tides<br/>Maurice Ravel: Klaviertrio a-moll Trio fü
 r Klavier, Violine und Violoncello<br/>Johannes Brahms: Klaviertrio No. 1 i
 n H Dur, op. 8
CONTACT:www.baerumkulturhus.no/arrangement/kashimoto-bohorquez-le-sage/
X-EXTRAINFO:Sandvika
DTSTAMP:20260419T194621Z
DTSTART;TZID=Europe/Berlin:20260426T190000
SEQUENCE:0
TRANSP:OPAQUE
END:VEVENT
END:VCALENDAR