BEGIN:VCALENDAR
VERSION:2.0
PRODID:-//jEvents 2.0 for Joomla//EN
CALSCALE:GREGORIAN
METHOD:PUBLISH
BEGIN:VTIMEZONE
TZID:Europe/Berlin
BEGIN:STANDARD
DTSTART:20251026T020000
RDATE:20260329T030000
TZOFFSETFROM:+0200
TZOFFSETTO:+0100
TZNAME:Europe/Berlin CET
END:STANDARD
BEGIN:STANDARD
DTSTART:20261025T020000
RDATE:20270328T030000
TZOFFSETFROM:+0200
TZOFFSETTO:+0100
TZNAME:Europe/Berlin CET
END:STANDARD
BEGIN:DAYLIGHT
DTSTART:20250423T193000
RDATE:20251026T020000
TZOFFSETFROM:+0100
TZOFFSETTO:+0200
TZNAME:Europe/Berlin CEST
END:DAYLIGHT
BEGIN:DAYLIGHT
DTSTART:20260329T030000
RDATE:20261025T020000
TZOFFSETFROM:+0100
TZOFFSETTO:+0200
TZNAME:Europe/Berlin CEST
END:DAYLIGHT
END:VTIMEZONE
BEGIN:VEVENT
UID:47a204eca8f2ae6c4a59f97eee30e6a5
CATEGORIES:Catriona Morison
CREATED:20260419T162701
SUMMARY:GRANADA LvdE
LOCATION:Granada\,\, Auditorio Manuel de Falla de Granada
DESCRIPTION:Gustav Mahler: Das Lied von der Erde
CONTACT:www.orquestaciudadgranada.es
X-EXTRAINFO:Granada,
DTSTAMP:20260419T194608Z
DTSTART;TZID=Europe/Berlin:20260424T193000
SEQUENCE:0
TRANSP:OPAQUE
END:VEVENT
END:VCALENDAR