BEGIN:VCALENDAR
VERSION:2.0
PRODID:-//jEvents 2.0 for Joomla//EN
CALSCALE:GREGORIAN
METHOD:PUBLISH
BEGIN:VTIMEZONE
TZID:Europe/Berlin
BEGIN:STANDARD
DTSTART:20251026T020000
RDATE:20260329T030000
TZOFFSETFROM:+0200
TZOFFSETTO:+0100
TZNAME:Europe/Berlin CET
END:STANDARD
BEGIN:STANDARD
DTSTART:20261025T020000
RDATE:20270328T030000
TZOFFSETFROM:+0200
TZOFFSETTO:+0100
TZNAME:Europe/Berlin CET
END:STANDARD
BEGIN:DAYLIGHT
DTSTART:20250418T193000
RDATE:20251026T020000
TZOFFSETFROM:+0100
TZOFFSETTO:+0200
TZNAME:Europe/Berlin CEST
END:DAYLIGHT
BEGIN:DAYLIGHT
DTSTART:20260329T030000
RDATE:20261025T020000
TZOFFSETFROM:+0100
TZOFFSETTO:+0200
TZNAME:Europe/Berlin CEST
END:DAYLIGHT
END:VTIMEZONE
BEGIN:VEVENT
UID:eae894e687076a929d63ae172fab6f0c
CATEGORIES:Ammiel Bushakevitz
CREATED:20260420T124402
SUMMARY:VEVEY LA mit Hasselhorn
LOCATION:Vevey\, Salle del Castillo
DESCRIPTION:-: Liederabend mit Samuel Hasselhorn
CONTACT:www.artsetlettres.ch
X-EXTRAINFO:Vevey
DTSTAMP:20260420T163840Z
DTSTART;TZID=Europe/Berlin:20260419T193000
SEQUENCE:0
TRANSP:OPAQUE
END:VEVENT
END:VCALENDAR