BEGIN:VCALENDAR
VERSION:2.0
PRODID:-//jEvents 2.0 for Joomla//EN
CALSCALE:GREGORIAN
METHOD:PUBLISH
BEGIN:VTIMEZONE
TZID:Europe/Berlin
BEGIN:STANDARD
DTSTART:20251026T020000
RDATE:20260329T030000
TZOFFSETFROM:+0200
TZOFFSETTO:+0100
TZNAME:Europe/Berlin CET
END:STANDARD
BEGIN:STANDARD
DTSTART:20261025T020000
RDATE:20270328T030000
TZOFFSETFROM:+0200
TZOFFSETTO:+0100
TZNAME:Europe/Berlin CET
END:STANDARD
BEGIN:DAYLIGHT
DTSTART:20250428T193000
RDATE:20251026T020000
TZOFFSETFROM:+0100
TZOFFSETTO:+0200
TZNAME:Europe/Berlin CEST
END:DAYLIGHT
BEGIN:DAYLIGHT
DTSTART:20260329T030000
RDATE:20261025T020000
TZOFFSETFROM:+0100
TZOFFSETTO:+0200
TZNAME:Europe/Berlin CEST
END:DAYLIGHT
END:VTIMEZONE
BEGIN:VEVENT
UID:38412ef3c50d5a09530118e8fcda0d75
CATEGORIES:Andrè Schuen
CREATED:20260423T203802
SUMMARY:WIEN LA Winterreise
LOCATION:Wien\, Musikverein - Brahms-Saal
DESCRIPTION:Franz Schubert: Winterreise op. 89 D 911
CONTACT:www.musikverein.at
X-EXTRAINFO:Wien
DTSTAMP:20260423T231214Z
DTSTART;TZID=Europe/Berlin:20260429T193000
SEQUENCE:0
TRANSP:OPAQUE
END:VEVENT
END:VCALENDAR