BEGIN:VCALENDAR
VERSION:2.0
PRODID:-//jEvents 2.0 for Joomla//EN
CALSCALE:GREGORIAN
METHOD:PUBLISH
BEGIN:VTIMEZONE
TZID:Europe/Berlin
BEGIN:STANDARD
DTSTART:20251026T020000
RDATE:20260329T030000
TZOFFSETFROM:+0200
TZOFFSETTO:+0100
TZNAME:Europe/Berlin CET
END:STANDARD
BEGIN:STANDARD
DTSTART:20261025T020000
RDATE:20270328T030000
TZOFFSETFROM:+0200
TZOFFSETTO:+0100
TZNAME:Europe/Berlin CET
END:STANDARD
BEGIN:DAYLIGHT
DTSTART:20250418T110000
RDATE:20251026T020000
TZOFFSETFROM:+0100
TZOFFSETTO:+0200
TZNAME:Europe/Berlin CEST
END:DAYLIGHT
BEGIN:DAYLIGHT
DTSTART:20260329T030000
RDATE:20261025T020000
TZOFFSETFROM:+0100
TZOFFSETTO:+0200
TZNAME:Europe/Berlin CEST
END:DAYLIGHT
END:VTIMEZONE
BEGIN:VEVENT
UID:82fe2df380f1683bb3d66b6c0912f84a
CATEGORIES:Manfred Honeck
CREATED:20260419T121402
SUMMARY:STUTTGART Staatsorchester
LOCATION:Stuttgart\, Liederhalle - Beethoven-Saal
DESCRIPTION:Carlos Simon: Four Black American Dances\nErwin Schulhoff: Five Pieces (arr
 . für Orchester von M. Honeck/T. Ille)\nAntonín Dvořák: Symphonie Nr. 9 e-m
 oll op. 95
X-ALT-DESC;FMTTYPE=text/html:Carlos Simon: Four Black American Dances<br/>Erwin Schulhoff: Five Pieces (
 arr. für Orchester von M. Honeck/T. Ille)<br/>Antonín Dvořák: Symphonie Nr.
  9 e-moll op. 95
CONTACT:www.staatsoper-stuttgart.de/staatsorchester/
X-EXTRAINFO:Stuttgart
DTSTAMP:20260419T154228Z
DTSTART;TZID=Europe/Berlin:20260419T110000
SEQUENCE:0
TRANSP:OPAQUE
END:VEVENT
END:VCALENDAR