BEGIN:VCALENDAR
VERSION:2.0
PRODID:-//jEvents 2.0 for Joomla//EN
CALSCALE:GREGORIAN
METHOD:PUBLISH
BEGIN:VTIMEZONE
TZID:Europe/Berlin
BEGIN:STANDARD
DTSTART:20251026T020000
RDATE:20260329T030000
TZOFFSETFROM:+0200
TZOFFSETTO:+0100
TZNAME:Europe/Berlin CET
END:STANDARD
BEGIN:STANDARD
DTSTART:20261025T020000
RDATE:20270328T030000
TZOFFSETFROM:+0200
TZOFFSETTO:+0100
TZNAME:Europe/Berlin CET
END:STANDARD
BEGIN:DAYLIGHT
DTSTART:20250425T150000
RDATE:20251026T020000
TZOFFSETFROM:+0100
TZOFFSETTO:+0200
TZNAME:Europe/Berlin CEST
END:DAYLIGHT
BEGIN:DAYLIGHT
DTSTART:20260329T030000
RDATE:20261025T020000
TZOFFSETFROM:+0100
TZOFFSETTO:+0200
TZNAME:Europe/Berlin CEST
END:DAYLIGHT
END:VTIMEZONE
BEGIN:VEVENT
UID:bfa04eff8ef535c6b6a3ab33683ffd7c
CATEGORIES:Wiebke Lehmkuhl
CREATED:20260419T122302
SUMMARY:TOURNEE Siegfried 17 19 24 26 
LOCATION:Baden-Baden\, Festspielhaus und Festspiele Baden-Baden gGmbH
DESCRIPTION:Richard Wagner: Siegfried
CONTACT:www.rotterdamsphilharmonisch.nl
X-EXTRAINFO:Baden-Baden
DTSTAMP:20260419T154220Z
DTSTART;TZID=Europe/Berlin:20260426T150000
SEQUENCE:0
TRANSP:OPAQUE
END:VEVENT
END:VCALENDAR