BEGIN:VCALENDAR
VERSION:2.0
PRODID:-//jEvents 2.0 for Joomla//EN
CALSCALE:GREGORIAN
METHOD:PUBLISH
BEGIN:VTIMEZONE
TZID:Europe/Berlin
BEGIN:STANDARD
DTSTART:20251026T020000
RDATE:20260329T030000
TZOFFSETFROM:+0200
TZOFFSETTO:+0100
TZNAME:Europe/Berlin CET
END:STANDARD
BEGIN:STANDARD
DTSTART:20261025T020000
RDATE:20270328T030000
TZOFFSETFROM:+0200
TZOFFSETTO:+0100
TZNAME:Europe/Berlin CET
END:STANDARD
BEGIN:DAYLIGHT
DTSTART:20250421T190000
RDATE:20251026T020000
TZOFFSETFROM:+0100
TZOFFSETTO:+0200
TZNAME:Europe/Berlin CEST
END:DAYLIGHT
BEGIN:DAYLIGHT
DTSTART:20260329T030000
RDATE:20261025T020000
TZOFFSETFROM:+0100
TZOFFSETTO:+0200
TZNAME:Europe/Berlin CEST
END:DAYLIGHT
END:VTIMEZONE
BEGIN:VEVENT
UID:54882109b3a3c6ec7fcedf7ab62a3052
CATEGORIES:Magdalena Lucjan
CREATED:20260419T124901
SUMMARY:WARSCHAU Chorus Opera
LOCATION:Warschau\, Teatr Wielki - Polish National Opera
DESCRIPTION:Chorus Opera
X-EXTRAINFO:Warschau
DTSTAMP:20260419T154212Z
DTSTART;TZID=Europe/Berlin:20260422T190000
SEQUENCE:0
TRANSP:OPAQUE
END:VEVENT
END:VCALENDAR