BEGIN:VCALENDAR
VERSION:2.0
PRODID:-//jEvents 2.0 for Joomla//EN
CALSCALE:GREGORIAN
METHOD:PUBLISH
BEGIN:VTIMEZONE
TZID:Europe/Berlin
BEGIN:STANDARD
DTSTART:20251026T020000
RDATE:20260329T030000
TZOFFSETFROM:+0200
TZOFFSETTO:+0100
TZNAME:Europe/Berlin CET
END:STANDARD
BEGIN:STANDARD
DTSTART:20261025T020000
RDATE:20270328T030000
TZOFFSETFROM:+0200
TZOFFSETTO:+0100
TZNAME:Europe/Berlin CET
END:STANDARD
BEGIN:DAYLIGHT
DTSTART:20250422T200000
RDATE:20251026T020000
TZOFFSETFROM:+0100
TZOFFSETTO:+0200
TZNAME:Europe/Berlin CEST
END:DAYLIGHT
BEGIN:DAYLIGHT
DTSTART:20260329T030000
RDATE:20261025T020000
TZOFFSETFROM:+0100
TZOFFSETTO:+0200
TZNAME:Europe/Berlin CEST
END:DAYLIGHT
END:VTIMEZONE
BEGIN:VEVENT
UID:e53f95a8250c1b7c50bb9fe970686e53
CATEGORIES:Louise McClelland
CREATED:20260419T125202
SUMMARY:Kopenhagen Don Pasquale - andere Angentur (a.A.)
LOCATION:København K\, The Royal Danish Opera / Det Kongelige Teater og Kapel
DESCRIPTION:Gaetano Donizetti: Don Pasquale\n    Louise McClelland Jacobsen, Norina
X-ALT-DESC;FMTTYPE=text/html:Gaetano Donizetti: Don Pasquale<br/>&nbsp;&nbsp;&nbsp;&nbsp;<i>Louise McCle
 lland Jacobsen, Norina</i>
CONTACT:www.kglteater.dk/en/
X-EXTRAINFO:København K
DTSTAMP:20260419T154227Z
DTSTART;TZID=Europe/Berlin:20260423T200000
SEQUENCE:0
TRANSP:OPAQUE
END:VEVENT
END:VCALENDAR