BEGIN:VCALENDAR
VERSION:2.0
PRODID:-//jEvents 2.0 for Joomla//EN
CALSCALE:GREGORIAN
METHOD:PUBLISH
BEGIN:VTIMEZONE
TZID:Europe/Berlin
BEGIN:STANDARD
DTSTART:20251026T020000
RDATE:20260329T030000
TZOFFSETFROM:+0200
TZOFFSETTO:+0100
TZNAME:Europe/Berlin CET
END:STANDARD
BEGIN:STANDARD
DTSTART:20261025T020000
RDATE:20270328T030000
TZOFFSETFROM:+0200
TZOFFSETTO:+0100
TZNAME:Europe/Berlin CET
END:STANDARD
BEGIN:DAYLIGHT
DTSTART:20250421T193000
RDATE:20251026T020000
TZOFFSETFROM:+0100
TZOFFSETTO:+0200
TZNAME:Europe/Berlin CEST
END:DAYLIGHT
BEGIN:DAYLIGHT
DTSTART:20260329T030000
RDATE:20261025T020000
TZOFFSETFROM:+0100
TZOFFSETTO:+0200
TZNAME:Europe/Berlin CEST
END:DAYLIGHT
END:VTIMEZONE
BEGIN:VEVENT
UID:77b5eeaffa8998db74c22b957aa1e2d9
CATEGORIES:Pietari Inkinen
CREATED:20260419T161601
SUMMARY:BERGEN/ Bergen Philharmonic/ Isabelle Faust
LOCATION:Bergen\, Grieghallen
DESCRIPTION:Johannes Brahms: Symphonie Nr. 1 op. 68
CONTACT:www.harmonien.no/en/programme/2026/4/brahms-1/
X-EXTRAINFO:Bergen
DTSTAMP:20260419T194733Z
DTSTART;TZID=Europe/Berlin:20260422T193000
SEQUENCE:0
TRANSP:OPAQUE
END:VEVENT
END:VCALENDAR