BEGIN:VCALENDAR
VERSION:2.0
PRODID:-//jEvents 2.0 for Joomla//EN
CALSCALE:GREGORIAN
METHOD:PUBLISH
BEGIN:VTIMEZONE
TZID:Europe/Berlin
BEGIN:STANDARD
DTSTART:20251026T020000
RDATE:20260329T030000
TZOFFSETFROM:+0200
TZOFFSETTO:+0100
TZNAME:Europe/Berlin CET
END:STANDARD
BEGIN:STANDARD
DTSTART:20261025T020000
RDATE:20270328T030000
TZOFFSETFROM:+0200
TZOFFSETTO:+0100
TZNAME:Europe/Berlin CET
END:STANDARD
BEGIN:DAYLIGHT
DTSTART:20250422T193000
RDATE:20251026T020000
TZOFFSETFROM:+0100
TZOFFSETTO:+0200
TZNAME:Europe/Berlin CEST
END:DAYLIGHT
BEGIN:DAYLIGHT
DTSTART:20260329T030000
RDATE:20261025T020000
TZOFFSETFROM:+0100
TZOFFSETTO:+0200
TZNAME:Europe/Berlin CEST
END:DAYLIGHT
END:VTIMEZONE
BEGIN:VEVENT
UID:4a00fc9256be0a21e4c10c81f0857824
CATEGORIES:Michael Nagy
CREATED:20260423T162901
SUMMARY:LUCERNE Carmina Burana mit Gürzenich
LOCATION:Luzern\, Kultur- und Kongresszentrum Luzern
DESCRIPTION:Carl Orff: Carmina Burana
CONTACT:www.guerzenich-orchester.de
X-EXTRAINFO:Luzern
DTSTAMP:20260423T192614Z
DTSTART;TZID=Europe/Berlin:20260423T193000
SEQUENCE:0
TRANSP:OPAQUE
END:VEVENT
END:VCALENDAR